BEGIN:VCALENDAR
VERSION:2.0
PRODID:-//Innovation TriValley - ECPv6.15.20//NONSGML v1.0//EN
CALSCALE:GREGORIAN
METHOD:PUBLISH
X-WR-CALNAME:Innovation TriValley
X-ORIGINAL-URL:https://innovationtrivalley.org
X-WR-CALDESC:Events for Innovation TriValley
REFRESH-INTERVAL;VALUE=DURATION:PT1H
X-Robots-Tag:noindex
X-PUBLISHED-TTL:PT1H
BEGIN:VTIMEZONE
TZID:America/Los_Angeles
BEGIN:DAYLIGHT
TZOFFSETFROM:-0800
TZOFFSETTO:-0700
TZNAME:PDT
DTSTART:20240310T100000
END:DAYLIGHT
BEGIN:STANDARD
TZOFFSETFROM:-0700
TZOFFSETTO:-0800
TZNAME:PST
DTSTART:20241103T090000
END:STANDARD
BEGIN:DAYLIGHT
TZOFFSETFROM:-0800
TZOFFSETTO:-0700
TZNAME:PDT
DTSTART:20250309T100000
END:DAYLIGHT
BEGIN:STANDARD
TZOFFSETFROM:-0700
TZOFFSETTO:-0800
TZNAME:PST
DTSTART:20251102T090000
END:STANDARD
BEGIN:DAYLIGHT
TZOFFSETFROM:-0800
TZOFFSETTO:-0700
TZNAME:PDT
DTSTART:20260308T100000
END:DAYLIGHT
BEGIN:STANDARD
TZOFFSETFROM:-0700
TZOFFSETTO:-0800
TZNAME:PST
DTSTART:20261101T090000
END:STANDARD
END:VTIMEZONE
BEGIN:VTIMEZONE
TZID:UTC
BEGIN:STANDARD
TZOFFSETFROM:+0000
TZOFFSETTO:+0000
TZNAME:UTC
DTSTART:20250101T000000
END:STANDARD
END:VTIMEZONE
BEGIN:VEVENT
DTSTART;TZID=America/Los_Angeles:20251120T083000
DTEND;TZID=America/Los_Angeles:20251120T103000
DTSTAMP:20260422T112350
CREATED:20250711T144656Z
LAST-MODIFIED:20251230T145446Z
UID:6354-1763627400-1763634600@innovationtrivalley.org
SUMMARY:15th Annual Dreammakers and Risktakers Awards
DESCRIPTION:PURCHASE TICKETS HERE
URL:https://innovationtrivalley.org/event/15th-annual-dreammakers-and-risktakers-awards/
CATEGORIES:ITV Events
ATTACH;FMTTYPE=image/png:https://innovationtrivalley.org/wp-content/uploads/2025/07/NEW-DMRT-2024-General-Instagram-Post-3.png
END:VEVENT
BEGIN:VEVENT
DTSTART;TZID=UTC:20260521T173000
DTEND;TZID=UTC:20260521T200000
DTSTAMP:20260422T112350
CREATED:20260205T063744Z
LAST-MODIFIED:20260422T043012Z
UID:8450-1779384600-1779393600@innovationtrivalley.org
SUMMARY:#GameChangers Awards 2026
DESCRIPTION:Reserve Your Seat \nWhy do so many people say… \n“I had no idea this was happening here”?\nBecause what’s shaping the Tri-Valley right now isn’t obvious until you’re in the room where it’s all happening.\nFor 9 years\, this night has revealed what’s next in the Tri-Valley before most people notice it’s already happening. \nFounders before breakout.Companies before headlines.Ideas before they’re obvious. \nThis is that night. \nGameChangers Awards 2026 by Innovation Tri-ValleyMay 21 | The Roundhouse at Bishop Ranch\n(Only 300 spots available) \nReserve Your Seat \nEach year\, the companies and leaders recognized here are already reshaping the region. Past honorees include emerging and established innovators across tech\, life sciences\, clean energy\, and advanced industry… many now far beyond where they started when first recognized here. \nWhat becomes clear\, year after year\, is simple: \nThey are not recognized after they matter.They are recognized while they are becoming hard to ignore. \nWho It’s For \nIf you want to understand where the Tri-Valley is heading before it becomes obvious\, this is where it shows up first. \nFounders. Operators. Investors. Builders.And people who want to hear about it before it happens. \nMost people only realize what this was after the fact. \n \nPast honorees: \n10x Genomics\, Lam Research\, Gillig\, Lawrence Livermore National Laboratory\, Dialpad\, Tekion\, Vector Atomic\, LWX Wines and Vagaro \nDetails \nWhen: May 21\, 2026\, 5:30pm-8:00pm\nWhere: The Roundhouse at Bishop Ranch\nCapacity: Only 300 spots available\nQuestions: info@innovationtrivalley.org \nStill not sure? \nAsk someone who came last year.\nBetter yet – ask someone who didn’t. \nBecause the most common text sent the morning after is: “Wish I’d known. Tell me when you get the PowerPoint deck.” \nThere is no deck.\nThere’s only the room. \nSee you in it. \nReserve Your Seat \n  \nTHANK YOU TO OUR EVENT SPONSORS:
URL:https://innovationtrivalley.org/event/gamechangers2026/
LOCATION:The Roundhouse at Bishop Ranch\, 2600 Camino Ramon\, San Ramon\, CA\, 94583\, United States
ATTACH;FMTTYPE=image/jpeg:https://innovationtrivalley.org/wp-content/uploads/2026/02/RESIZED-2160x1080-without-date_location.jpg
ORGANIZER;CN="Innovation Tri-Valley Leadership Group":MAILTO:info@innovationtrivalley.org
END:VEVENT
END:VCALENDAR